BEGIN:VCALENDAR
VERSION:2.0
PRODID:-//Silva Bay Yacht Club - ECPv6.15.13//NONSGML v1.0//EN
CALSCALE:GREGORIAN
METHOD:PUBLISH
X-WR-CALNAME:Silva Bay Yacht Club
X-ORIGINAL-URL:https://silvabayyachtclub.com
X-WR-CALDESC:Events for Silva Bay Yacht Club
REFRESH-INTERVAL;VALUE=DURATION:PT1H
X-Robots-Tag:noindex
X-PUBLISHED-TTL:PT1H
BEGIN:VTIMEZONE
TZID:America/Vancouver
BEGIN:DAYLIGHT
TZOFFSETFROM:-0800
TZOFFSETTO:-0700
TZNAME:PDT
DTSTART:20250309T100000
END:DAYLIGHT
BEGIN:STANDARD
TZOFFSETFROM:-0700
TZOFFSETTO:-0800
TZNAME:PST
DTSTART:20251102T090000
END:STANDARD
BEGIN:DAYLIGHT
TZOFFSETFROM:-0800
TZOFFSETTO:-0700
TZNAME:PDT
DTSTART:20260308T100000
END:DAYLIGHT
BEGIN:STANDARD
TZOFFSETFROM:-0700
TZOFFSETTO:-0800
TZNAME:PST
DTSTART:20261101T090000
END:STANDARD
BEGIN:DAYLIGHT
TZOFFSETFROM:-0800
TZOFFSETTO:-0700
TZNAME:PDT
DTSTART:20270314T100000
END:DAYLIGHT
BEGIN:STANDARD
TZOFFSETFROM:-0700
TZOFFSETTO:-0800
TZNAME:PST
DTSTART:20271107T090000
END:STANDARD
END:VTIMEZONE
BEGIN:VEVENT
DTSTART;TZID=America/Vancouver:20260621T150000
DTEND;TZID=America/Vancouver:20260621T200000
DTSTAMP:20260422T090345
CREATED:20260419T172116Z
LAST-MODIFIED:20260419T173241Z
UID:10000377-1782054000-1782072000@silvabayyachtclub.com
SUMMARY:Social with Ladysmith Yacht Club
DESCRIPTION:June 20th\, 2026\n3pm-8pm\nPage’s Marina \nA great chance to socialize with other nearby club members. Beer from Bayview Brewery to be provided as well as Brats by the Ladysmith club. Silva Bay members to bring salads\, condiments and dessert.  Prizes for best pirate.   Do not forget to register and as well bring a chair and beverage of your choice. \nAdd what you plan to bring in the guest area of the web registration form. \n  \n\n	Notice: JavaScript is required for this content.
URL:https://silvabayyachtclub.com/event/social-with-ladysmith-yacht-club
LOCATION:Page’s Marina\, Gabriola\, BC\, Canada
ATTACH;FMTTYPE=image/png:https://silvabayyachtclub.com/wp-content/uploads/2026/04/Pages-Marina.png
END:VEVENT
END:VCALENDAR